BEGIN:VCALENDAR
VERSION:2.0
PRODID:-//National Art Gallery of The Bahamas - ECPv6.1.3//NONSGML v1.0//EN
CALSCALE:GREGORIAN
METHOD:PUBLISH
X-WR-CALNAME:National Art Gallery of The Bahamas
X-ORIGINAL-URL:https://nagb.org.bs
X-WR-CALDESC:Events for National Art Gallery of The Bahamas
REFRESH-INTERVAL;VALUE=DURATION:PT1H
X-Robots-Tag:noindex
X-PUBLISHED-TTL:PT1H
BEGIN:VTIMEZONE

END:VTIMEZONE
BEGIN:VEVENT
DTSTART;TZID=America/Nassau:19700422T000000
DTEND;TZID=America/Nassau:20230829T170000
DTSTAMP:20230720T104611
CREATED:20230321T154827Z
LAST-MODIFIED:20230321T204457Z
UID:17139-9590400-1693328400@nagb.org.bs
SUMMARY:Art & Studio Workshop: "Antonius Roberts: Art\, Ecology\, and Sacred Space"
DESCRIPTION:The “sacred\,” for Roberts\, is about “celebrating something for what it is.” This exhibition encourages viewers to contemplate\, to see newly\, the sacred in the island’s environmental\, ecological\, and architectural history. \nYou are invited to explore what “sacred” means to you through the identification materials that represent your sense of the ‘sacred’. These materials will then be used to fabricate an assemblage. Led by Antonis Roberts\, participants will be guided through their concepts to a finished piece over two days of workshops. All creatives (8 years+) are invited to participate in this free community event which includes a guided tour of the exhibition. \nSign up at the link below and for more information please contact zwilkinson@nagb.org.bs \nhttps://forms.office.com/r/dqm1dMndsq
URL:https://nagb.org.bs/event/17139/
CATEGORIES:Art & Studio Workshops,Exhibitions,Tours,Workshops
ATTACH;FMTTYPE=image/png:https://nagb.org.bs/wp-content/uploads/2023/03/AR-Exhibition-workshops.png
END:VEVENT
BEGIN:VEVENT
DTSTART;TZID=America/Nassau:20230720T190000
DTEND;TZID=America/Nassau:20230720T230000
DTSTAMP:20230720T104611
CREATED:20230605T231032Z
LAST-MODIFIED:20230713T012741Z
UID:17511-1689879600-1689894000@nagb.org.bs
SUMMARY:NAGB 20th Anniversary Celebration
DESCRIPTION:To play our part in the country’s festivities and to bring the 50th Independence celebration in with style\, the NAGB invites you to our 20th Anniversary Party\, from 7:00 pm to 11:00 pm on Thursday\, July 20\, 2023 at the museum’s grounds on West and West Hill Streets. Come by for a selection of libations\, culture\, and culinary delight while you dance the night away around the property and stay for the DJ and live performances – we’ve got a great lineup for you to laugh\, wine up\, wind down\, and celebrate with us. \nClick the link below or visit our Mixed Media Store to buy tickets. \n\n		\n	\nBUY TICKET HERE
URL:https://nagb.org.bs/event/nagb-20th-anniversary-celebration/
LOCATION:National Art Gallery of The Bahamas
CATEGORIES:NAGB 20th Anniversary
ATTACH;FMTTYPE=image/png:https://nagb.org.bs/wp-content/uploads/2023/06/1-1.png
END:VEVENT
END:VCALENDAR