BEGIN:VCALENDAR
VERSION:2.0
PRODID:-//National Art Gallery of The Bahamas - ECPv6.15.20//NONSGML v1.0//EN
CALSCALE:GREGORIAN
METHOD:PUBLISH
X-WR-CALNAME:National Art Gallery of The Bahamas
X-ORIGINAL-URL:https://nagb.org.bs
X-WR-CALDESC:Events for National Art Gallery of The Bahamas
REFRESH-INTERVAL;VALUE=DURATION:PT1H
X-Robots-Tag:noindex
X-PUBLISHED-TTL:PT1H
BEGIN:VTIMEZONE
TZID:America/Nassau
BEGIN:DAYLIGHT
TZOFFSETFROM:-0500
TZOFFSETTO:-0400
TZNAME:EDT
DTSTART:20220313T070000
END:DAYLIGHT
BEGIN:STANDARD
TZOFFSETFROM:-0400
TZOFFSETTO:-0500
TZNAME:EST
DTSTART:20221106T060000
END:STANDARD
BEGIN:DAYLIGHT
TZOFFSETFROM:-0500
TZOFFSETTO:-0400
TZNAME:EDT
DTSTART:20230312T070000
END:DAYLIGHT
BEGIN:STANDARD
TZOFFSETFROM:-0400
TZOFFSETTO:-0500
TZNAME:EST
DTSTART:20231105T060000
END:STANDARD
BEGIN:DAYLIGHT
TZOFFSETFROM:-0500
TZOFFSETTO:-0400
TZNAME:EDT
DTSTART:20240310T070000
END:DAYLIGHT
BEGIN:STANDARD
TZOFFSETFROM:-0400
TZOFFSETTO:-0500
TZNAME:EST
DTSTART:20241103T060000
END:STANDARD
END:VTIMEZONE
BEGIN:VEVENT
DTSTART;VALUE=DATE:20230301
DTEND;VALUE=DATE:20230306
DTSTAMP:20260424T123111
CREATED:20221201T230519Z
LAST-MODIFIED:20230308T190245Z
UID:16555-1677628800-1678060799@nagb.org.bs
SUMMARY:2023 MAC Conference: Power of Museums
DESCRIPTION:The National Art Gallery of The Bahamas (NAGB)\, in partnership with the Central Bank of The Bahamas (CBOB)\, the University of The Bahamas (UB)\, and the Antiquities\, Monuments and Museums Corporation (AMMC)\, is thrilled to announce that we will be hosting the Museums Association of the Caribbean’s (MAC) Conference in Nassau\, March 1-5\, 2023! For the first time since its inception\, the Museum Association of the Caribbean’s (MAC) Conference will take place in The Bahamas under the theme “Power of Museums: Relevancy\, Advocacy\, Transformation”.  \nThe Caribbean-wide conference is a forum for the exchange of information and ideas amongst museums and cultural institutions in the Caribbean States and other countries where its diasporas are numerous. Since its inception in 1989\, MAC has hosted 32 conferences in 25 countries\, each time with over 200 guests in attendance\, including 100-125 museum and cultural professionals from Aruba\, Australia\, The Bahamas\, Barbados\, Canada\, Cayman Islands\, Curaçao\, Dominica\, Dominican Republic\, Grenada\, Guadeloupe\, Jamaica\, Martinique\, Mexico\, Panama (North\, Central and South)\, Puerto Rico\, Scotland\, Senegal\, South America (North\, Central and South)\, Trinidad and Tobago\, the United Kingdom\, and the United States. The primary language of the conference is English\, with simultaneous translations into French and Spanish.  \nWith two full days of world-class presentations and panels\, a sparkling opening reception and keynote speaker\, networking events and cultural tours\, MAC’s first in-person conference since 2019 will be the premier event for local and visiting academics\, cultural and museum professionals\, and college/university students.  \nTo learn more about the MAC Conference and register visit https://caribbeanmuseums.com/macbahamas2023/index.php 
URL:https://nagb.org.bs/event/2023-mac-conference-power-of-museums/
CATEGORIES:Professional Development Series
ATTACH;FMTTYPE=image/png:https://nagb.org.bs/wp-content/uploads/2022/12/MAC-Conference-Tickets-Flyer-Portrait-2-1.png
END:VEVENT
END:VCALENDAR