BEGIN:VCALENDAR
VERSION:2.0
PRODID:-//National Art Gallery of The Bahamas - ECPv6.15.20//NONSGML v1.0//EN
CALSCALE:GREGORIAN
METHOD:PUBLISH
X-WR-CALNAME:National Art Gallery of The Bahamas
X-ORIGINAL-URL:https://nagb.org.bs
X-WR-CALDESC:Events for National Art Gallery of The Bahamas
REFRESH-INTERVAL;VALUE=DURATION:PT1H
X-Robots-Tag:noindex
X-PUBLISHED-TTL:PT1H
BEGIN:VTIMEZONE
TZID:America/Nassau
BEGIN:DAYLIGHT
TZOFFSETFROM:-0500
TZOFFSETTO:-0400
TZNAME:EDT
DTSTART:20190310T070000
END:DAYLIGHT
BEGIN:STANDARD
TZOFFSETFROM:-0400
TZOFFSETTO:-0500
TZNAME:EST
DTSTART:20191103T060000
END:STANDARD
BEGIN:DAYLIGHT
TZOFFSETFROM:-0500
TZOFFSETTO:-0400
TZNAME:EDT
DTSTART:20200308T070000
END:DAYLIGHT
BEGIN:STANDARD
TZOFFSETFROM:-0400
TZOFFSETTO:-0500
TZNAME:EST
DTSTART:20201101T060000
END:STANDARD
BEGIN:DAYLIGHT
TZOFFSETFROM:-0500
TZOFFSETTO:-0400
TZNAME:EDT
DTSTART:20210314T070000
END:DAYLIGHT
BEGIN:STANDARD
TZOFFSETFROM:-0400
TZOFFSETTO:-0500
TZNAME:EST
DTSTART:20211107T060000
END:STANDARD
END:VTIMEZONE
BEGIN:VEVENT
DTSTART;TZID=America/Nassau:20201029T120000
DTEND;TZID=America/Nassau:20201029T210000
DTSTAMP:20260419T192622
CREATED:20211014T170134Z
LAST-MODIFIED:20211014T170134Z
UID:10556-1603972800-1604005200@nagb.org.bs
SUMMARY:4th Sundays on IG: "onePULSE"
DESCRIPTION:[vc_row][vc_column][vc_column_text]It’s that time again! Tune into the NAGB’s Instagram Live this coming Sunday\, November 29th at 12:00pm for a virtual tour of our newest mural exhibition “onePULSE” curated by Richardo Barrett. Stop by to show some love and share your thoughts and comments during the tour. See you all then![/vc_column_text][/vc_column][/vc_row][vc_row][vc_column][vc_empty_space height=”60px”][/vc_column][/vc_row]
URL:https://nagb.org.bs/event/4th-sundays-on-ig-onepulse/
CATEGORIES:4th Sundays
ATTACH;FMTTYPE=image/jpeg:https://nagb.org.bs/wp-content/uploads/2021/10/4thSundaysVTNov29th_MEd.jpg
END:VEVENT
END:VCALENDAR