BEGIN:VCALENDAR
VERSION:2.0
PRODID:-//National Art Gallery of The Bahamas - ECPv6.15.20//NONSGML v1.0//EN
CALSCALE:GREGORIAN
METHOD:PUBLISH
X-WR-CALNAME:National Art Gallery of The Bahamas
X-ORIGINAL-URL:https://nagb.org.bs
X-WR-CALDESC:Events for National Art Gallery of The Bahamas
REFRESH-INTERVAL;VALUE=DURATION:PT1H
X-Robots-Tag:noindex
X-PUBLISHED-TTL:PT1H
BEGIN:VTIMEZONE
TZID:America/Nassau
BEGIN:DAYLIGHT
TZOFFSETFROM:-0500
TZOFFSETTO:-0400
TZNAME:EDT
DTSTART:20240310T070000
END:DAYLIGHT
BEGIN:STANDARD
TZOFFSETFROM:-0400
TZOFFSETTO:-0500
TZNAME:EST
DTSTART:20241103T060000
END:STANDARD
BEGIN:DAYLIGHT
TZOFFSETFROM:-0500
TZOFFSETTO:-0400
TZNAME:EDT
DTSTART:20250309T070000
END:DAYLIGHT
BEGIN:STANDARD
TZOFFSETFROM:-0400
TZOFFSETTO:-0500
TZNAME:EST
DTSTART:20251102T060000
END:STANDARD
BEGIN:DAYLIGHT
TZOFFSETFROM:-0500
TZOFFSETTO:-0400
TZNAME:EDT
DTSTART:20260308T070000
END:DAYLIGHT
BEGIN:STANDARD
TZOFFSETFROM:-0400
TZOFFSETTO:-0500
TZNAME:EST
DTSTART:20261101T060000
END:STANDARD
END:VTIMEZONE
BEGIN:VEVENT
DTSTART;TZID=America/Nassau:20250329T100000
DTEND;TZID=America/Nassau:20250329T130000
DTSTAMP:20260420T062840
CREATED:20250321T024015Z
LAST-MODIFIED:20250603T065753Z
UID:51437-1743242400-1743253200@nagb.org.bs
SUMMARY:Character Design with Maz Joachin
DESCRIPTION:What to ExpectJoin illustrator Maz Joachin for a hands-on session exploring character design through a Caribbean lens. Inspired by our latest collection exhibition\, this guided workshop will help you develop original characters and refine your artistic approach. Workshops at the NAGB begin with a gallery tour (if applicable) and continue with an extended working session. All materials are provided\, but you’re welcome to bring your own. By the end\, you’ll leave with a completed project!   Who Can Join?Open to ages 12+Some experience requiredLimited spaces are available. Registration is required.   About the InstructorMaz Joachin is a Haitian-Bahamian comic book artist and illustrator. He co-founded Streetlight Animation Studios and co-created the animated series Nassau Rock. For over 15 years\, Joachin has published comic books in The Bahamas and worked with schools to promote and teach animation. His comic Supernova debuted in YeaBey magazine in 2013 before being released as a standalone volume\, followed by Canyon. Both books are available at the NAGB.  Questions?Contact Nowé Harris-Smith at nharrissmith@nagb.org.bs. ↗ 								\n				\n				\n				\n									\n					\n						\n						\n							\n									Register Now
URL:https://nagb.org.bs/event/character-design-with-maz-joachin/
LOCATION:National Art Gallery of The Bahamas
CATEGORIES:Workshops
ATTACH;FMTTYPE=image/jpeg:https://nagb.org.bs/wp-content/uploads/2025/03/Maz-Joachin-Headshot-scaled.jpeg
END:VEVENT
END:VCALENDAR