BEGIN:VCALENDAR
VERSION:2.0
PRODID:-//National Art Gallery of The Bahamas - ECPv6.15.20//NONSGML v1.0//EN
CALSCALE:GREGORIAN
METHOD:PUBLISH
X-WR-CALNAME:National Art Gallery of The Bahamas
X-ORIGINAL-URL:https://nagb.org.bs
X-WR-CALDESC:Events for National Art Gallery of The Bahamas
REFRESH-INTERVAL;VALUE=DURATION:PT1H
X-Robots-Tag:noindex
X-PUBLISHED-TTL:PT1H
BEGIN:VTIMEZONE
TZID:America/Nassau
BEGIN:DAYLIGHT
TZOFFSETFROM:-0500
TZOFFSETTO:-0400
TZNAME:EDT
DTSTART:20180311T070000
END:DAYLIGHT
BEGIN:STANDARD
TZOFFSETFROM:-0400
TZOFFSETTO:-0500
TZNAME:EST
DTSTART:20181104T060000
END:STANDARD
BEGIN:DAYLIGHT
TZOFFSETFROM:-0500
TZOFFSETTO:-0400
TZNAME:EDT
DTSTART:20190310T070000
END:DAYLIGHT
BEGIN:STANDARD
TZOFFSETFROM:-0400
TZOFFSETTO:-0500
TZNAME:EST
DTSTART:20191103T060000
END:STANDARD
BEGIN:DAYLIGHT
TZOFFSETFROM:-0500
TZOFFSETTO:-0400
TZNAME:EDT
DTSTART:20200308T070000
END:DAYLIGHT
BEGIN:STANDARD
TZOFFSETFROM:-0400
TZOFFSETTO:-0500
TZNAME:EST
DTSTART:20201101T060000
END:STANDARD
END:VTIMEZONE
BEGIN:VEVENT
DTSTART;TZID=America/Nassau:20191207T120000
DTEND;TZID=America/Nassau:20191207T160000
DTSTAMP:20260419T145753
CREATED:20211001T094940Z
LAST-MODIFIED:20211001T094940Z
UID:18182-1575720000-1575734400@nagb.org.bs
SUMMARY:Christmas ARTernoon 2019
DESCRIPTION:[vc_row][vc_column][vc_empty_space height=”40px”][/vc_column][/vc_row][vc_row][vc_column][vc_column_text]It’s the most wonderful time of the year – Christmastime at The NAGB! Amidst all the change\, Christmas is still about family\, togetherness and ART. And in that spirit\, the Christmas ARTernoon is back under the theme “A Bahamian Christmas”. \nThis year the ARTernoon experience will be entirely virtual\, a complete social media take-over. Follow NAGB on Facebook\, Instagram\, Twitter and YouTube for a day of trivia\, Christmas decoration voting\, fun with NAGB staff\, and best of all a holiday-themed art activity with artist Jodi Minnis! \nTo sign up for the art activity visit https://forms.gle/vtxFX7jTPFgBpwzP7. For more information contact zmunroe@nagb.org.bs. [/vc_column_text][vc_empty_space height=”30px”][/vc_column][/vc_row][vc_row][vc_column][vc_empty_space height=”60px”][/vc_column][/vc_row]
URL:https://nagb.org.bs/event/christmas-arternoon-2019-2/
CATEGORIES:ARTernoons
ATTACH;FMTTYPE=image/jpeg:https://nagb.org.bs/wp-content/uploads/2021/10/XmasAternoon.jpg
END:VEVENT
END:VCALENDAR