BEGIN:VCALENDAR
VERSION:2.0
PRODID:-//National Art Gallery of The Bahamas - ECPv6.15.20//NONSGML v1.0//EN
CALSCALE:GREGORIAN
METHOD:PUBLISH
X-WR-CALNAME:National Art Gallery of The Bahamas
X-ORIGINAL-URL:https://nagb.org.bs
X-WR-CALDESC:Events for National Art Gallery of The Bahamas
REFRESH-INTERVAL;VALUE=DURATION:PT1H
X-Robots-Tag:noindex
X-PUBLISHED-TTL:PT1H
BEGIN:VTIMEZONE
TZID:America/Nassau
BEGIN:DAYLIGHT
TZOFFSETFROM:-0500
TZOFFSETTO:-0400
TZNAME:EDT
DTSTART:20210314T070000
END:DAYLIGHT
BEGIN:STANDARD
TZOFFSETFROM:-0400
TZOFFSETTO:-0500
TZNAME:EST
DTSTART:20211107T060000
END:STANDARD
BEGIN:DAYLIGHT
TZOFFSETFROM:-0500
TZOFFSETTO:-0400
TZNAME:EDT
DTSTART:20220313T070000
END:DAYLIGHT
BEGIN:STANDARD
TZOFFSETFROM:-0400
TZOFFSETTO:-0500
TZNAME:EST
DTSTART:20221106T060000
END:STANDARD
BEGIN:DAYLIGHT
TZOFFSETFROM:-0500
TZOFFSETTO:-0400
TZNAME:EDT
DTSTART:20230312T070000
END:DAYLIGHT
BEGIN:STANDARD
TZOFFSETFROM:-0400
TZOFFSETTO:-0500
TZNAME:EST
DTSTART:20231105T060000
END:STANDARD
END:VTIMEZONE
BEGIN:VEVENT
DTSTART;TZID=America/Nassau:20220224T183000
DTEND;TZID=America/Nassau:20220224T200000
DTSTAMP:20260424T135743
CREATED:20220224T145331Z
LAST-MODIFIED:20220224T145331Z
UID:18217-1645727400-1645732800@nagb.org.bs
SUMMARY:Film Series: A Raisin in the Sun
DESCRIPTION:[vc_row][vc_column][vc_empty_space height=”40px”][/vc_column][/vc_row][vc_row][vc_column][vc_column_text]What happens to a dream deferred?\nDoes it dry up\nlike a raisin in the sun?\nOr fester like a sore—\nAnd then run?\nDoes it stink like rotten meat?\nOr crust and sugar over—\nlike a syrupy sweet?\nMaybe it just sags\nlike a heavy load.\nOr does it explode? \nThis short poem by Harlem Renaissance giant Langston Hughes\, “Montage of a Dream Deferred” serves as the inspirational launching point for a classic work of American theater and film\, “A Raisin in the Sun”. Lorraine Hansberry penned this play\, inspired by her own family’s fight against racism and segregated housing in Chicago. \nOur own beloved Sidney Poitier starred in the groundbreaking Broadway play and then assumed the role of Walter Lee Younger in the 1961 movie version\, directed by Daniel Petrie. Poitier’s performance stands as one of his finest over an illustrious fifty-year career. \nWalter Lee’s anguish\, tortured love\, anger and frustrated ambition are powerfully realized in a film about the struggle to be black and matter in America. Interestingly\, in 1963 Lorraine Hansberry had an enraged reaction to a photo from Birmingham Alabama in which a white police kneeled on a black woman’s neck. \n‘Just how much has changed?’ we can rightly ask. \nPlease join us on Thursday\, February 24th @ Fiona’s Theatre at 6:30 pm for this special screening in celebration of the life and work of Sidney Poitier. This and all screenings are free and open to the public. Space is limited. Proof of vaccination is required and COVID-19 protocols will be strictly enforced.[/vc_column_text][/vc_column][/vc_row][vc_row][vc_column][vc_empty_space height=”60px”][/vc_column][/vc_row]
URL:https://nagb.org.bs/event/film-series-a-raisin-in-the-sun-2/
LOCATION:National Art Gallery of The Bahamas
CATEGORIES:Film Series
ATTACH;FMTTYPE=image/jpeg:https://nagb.org.bs/wp-content/uploads/2022/02/raisin-in-the-sun.jpg
END:VEVENT
END:VCALENDAR