BEGIN:VCALENDAR
VERSION:2.0
PRODID:-//National Art Gallery of The Bahamas - ECPv6.15.20//NONSGML v1.0//EN
CALSCALE:GREGORIAN
METHOD:PUBLISH
X-WR-CALNAME:National Art Gallery of The Bahamas
X-ORIGINAL-URL:https://nagb.org.bs
X-WR-CALDESC:Events for National Art Gallery of The Bahamas
REFRESH-INTERVAL;VALUE=DURATION:PT1H
X-Robots-Tag:noindex
X-PUBLISHED-TTL:PT1H
BEGIN:VTIMEZONE
TZID:America/Nassau
BEGIN:DAYLIGHT
TZOFFSETFROM:-0500
TZOFFSETTO:-0400
TZNAME:EDT
DTSTART:20210314T070000
END:DAYLIGHT
BEGIN:STANDARD
TZOFFSETFROM:-0400
TZOFFSETTO:-0500
TZNAME:EST
DTSTART:20211107T060000
END:STANDARD
BEGIN:DAYLIGHT
TZOFFSETFROM:-0500
TZOFFSETTO:-0400
TZNAME:EDT
DTSTART:20220313T070000
END:DAYLIGHT
BEGIN:STANDARD
TZOFFSETFROM:-0400
TZOFFSETTO:-0500
TZNAME:EST
DTSTART:20221106T060000
END:STANDARD
BEGIN:DAYLIGHT
TZOFFSETFROM:-0500
TZOFFSETTO:-0400
TZNAME:EDT
DTSTART:20230312T070000
END:DAYLIGHT
BEGIN:STANDARD
TZOFFSETFROM:-0400
TZOFFSETTO:-0500
TZNAME:EST
DTSTART:20231105T060000
END:STANDARD
END:VTIMEZONE
BEGIN:VEVENT
DTSTART;TZID=America/Nassau:20220629T200000
DTEND;TZID=America/Nassau:20220803T213000
DTSTAMP:20260421T091216
CREATED:20220617T155604Z
LAST-MODIFIED:20220617T155604Z
UID:18225-1656532800-1659562200@nagb.org.bs
SUMMARY:Film Series: Raise The Red Lantern
DESCRIPTION:[vc_row][vc_column][vc_empty_space height=”40px”][/vc_column][/vc_row][vc_row][vc_column][vc_column_text]The luminous Gong Li stars in this powerful meditation on gender inequality. Set in China in the 1920s and based on the novel\, “Wives and Concubines”\, filmmaker  Zhang Yimou creates a masterpiece\, that is perfectly acted and superbly framed and composed. Though 30 years old\, this film speaks as powerfully today as it did in 1991 about the predicament of women in our world. \nPlease join us on Wednesday\, June 29th at 8:00 pm in Fiona’s Theatre to view this fantastic film. All NAGB Film Series screenings are free and open to the public. Space is limited and proof of vaccination is required. COVID-19 social distancing protocols will be in effect.[/vc_column_text][/vc_column][/vc_row][vc_row][vc_column][vc_empty_space height=”60px”][/vc_column][/vc_row]
URL:https://nagb.org.bs/event/film-series-raise-the-red-lantern-2/
LOCATION:National Art Gallery of The Bahamas
CATEGORIES:Film Series,Fiona's Theatre
ATTACH;FMTTYPE=image/png:https://nagb.org.bs/wp-content/uploads/2022/06/Film-Series-2022-RAISE-THE-RED-LANTERN-2.png
END:VEVENT
END:VCALENDAR