BEGIN:VCALENDAR
VERSION:2.0
PRODID:-//National Art Gallery of The Bahamas - ECPv6.15.20//NONSGML v1.0//EN
CALSCALE:GREGORIAN
METHOD:PUBLISH
X-WR-CALNAME:National Art Gallery of The Bahamas
X-ORIGINAL-URL:https://nagb.org.bs
X-WR-CALDESC:Events for National Art Gallery of The Bahamas
REFRESH-INTERVAL;VALUE=DURATION:PT1H
X-Robots-Tag:noindex
X-PUBLISHED-TTL:PT1H
BEGIN:VTIMEZONE
TZID:America/Nassau
BEGIN:DAYLIGHT
TZOFFSETFROM:-0500
TZOFFSETTO:-0400
TZNAME:EDT
DTSTART:20210314T070000
END:DAYLIGHT
BEGIN:STANDARD
TZOFFSETFROM:-0400
TZOFFSETTO:-0500
TZNAME:EST
DTSTART:20211107T060000
END:STANDARD
BEGIN:DAYLIGHT
TZOFFSETFROM:-0500
TZOFFSETTO:-0400
TZNAME:EDT
DTSTART:20220313T070000
END:DAYLIGHT
BEGIN:STANDARD
TZOFFSETFROM:-0400
TZOFFSETTO:-0500
TZNAME:EST
DTSTART:20221106T060000
END:STANDARD
BEGIN:DAYLIGHT
TZOFFSETFROM:-0500
TZOFFSETTO:-0400
TZNAME:EDT
DTSTART:20230312T070000
END:DAYLIGHT
BEGIN:STANDARD
TZOFFSETFROM:-0400
TZOFFSETTO:-0500
TZNAME:EST
DTSTART:20231105T060000
END:STANDARD
END:VTIMEZONE
BEGIN:VEVENT
DTSTART;TZID=America/Nassau:20220324T150000
DTEND;TZID=America/Nassau:20220324T210000
DTSTAMP:20260424T153139
CREATED:20220322T143523Z
LAST-MODIFIED:20220322T143523Z
UID:18219-1648134000-1648155600@nagb.org.bs
SUMMARY:Kendra Frorup: The Whimsical Collector
DESCRIPTION:The NAGB is proud to present Kendra Frorup’s mid-career exhibition\, The Whimsical Collector\, which opens on Thursday\, March 24th\, 2022 from 3:00 pm – 9:00 pm. This show will feature over 70 plus works on paper\, sculptures and installations by mixed media artist\, and educator\, Kendra Frorup (née Hamilton).
URL:https://nagb.org.bs/event/kendra-frorup-the-whimsical-collector-2/
LOCATION:National Art Gallery of The Bahamas
CATEGORIES:Exhibitions
ATTACH;FMTTYPE=image/png:https://nagb.org.bs/wp-content/uploads/2022/03/TheWhimsicalCollector_Gfx_SocialMedia-14-3.png
END:VEVENT
END:VCALENDAR