BEGIN:VCALENDAR
VERSION:2.0
PRODID:-//National Art Gallery of The Bahamas - ECPv6.15.20//NONSGML v1.0//EN
CALSCALE:GREGORIAN
METHOD:PUBLISH
X-WR-CALNAME:National Art Gallery of The Bahamas
X-ORIGINAL-URL:https://nagb.org.bs
X-WR-CALDESC:Events for National Art Gallery of The Bahamas
REFRESH-INTERVAL;VALUE=DURATION:PT1H
X-Robots-Tag:noindex
X-PUBLISHED-TTL:PT1H
BEGIN:VTIMEZONE
TZID:America/Nassau
BEGIN:DAYLIGHT
TZOFFSETFROM:-0500
TZOFFSETTO:-0400
TZNAME:EDT
DTSTART:20210314T070000
END:DAYLIGHT
BEGIN:STANDARD
TZOFFSETFROM:-0400
TZOFFSETTO:-0500
TZNAME:EST
DTSTART:20211107T060000
END:STANDARD
BEGIN:DAYLIGHT
TZOFFSETFROM:-0500
TZOFFSETTO:-0400
TZNAME:EDT
DTSTART:20220313T070000
END:DAYLIGHT
BEGIN:STANDARD
TZOFFSETFROM:-0400
TZOFFSETTO:-0500
TZNAME:EST
DTSTART:20221106T060000
END:STANDARD
BEGIN:DAYLIGHT
TZOFFSETFROM:-0500
TZOFFSETTO:-0400
TZNAME:EDT
DTSTART:20230312T070000
END:DAYLIGHT
BEGIN:STANDARD
TZOFFSETFROM:-0400
TZOFFSETTO:-0500
TZNAME:EST
DTSTART:20231105T060000
END:STANDARD
END:VTIMEZONE
BEGIN:VEVENT
DTSTART;TZID=America/Nassau:20221214T183000
DTEND;TZID=America/Nassau:20221214T200000
DTSTAMP:20260423T092731
CREATED:20221208T180726Z
LAST-MODIFIED:20250515T000321Z
UID:18237-1671042600-1671048000@nagb.org.bs
SUMMARY:Artist Talk: Guilden Gilbert\, Candis Marshall\, and Averia Wright
DESCRIPTION:On Wednesday\, December 14th at 6:30 pm the NAGB will host a second panel discussion that features artists from our current exhibition NE:10 “Mercy”. \nCandis Marshall\, Guilden Gilbert\, and Averia Wright will join moderator John Cox in a discussion on the many facets of mercy\, and reflect on the approach they have taken to address this complex subject in the work that was developed for the tenth National Exhibition. The NE 10 serves as a litmus test of what “is’ and “could be” in the context of the many signs\, features\, currents and hallmarks of the times in which we are living and through which we are moving. \nJoin us in Fiona’s Theatre onsite at your favorite museum\, for what will surely be a lively\, thoughtful and provocative conversation. This event is free and open to the public.
URL:https://nagb.org.bs/event/ne10-artist-talk-ii-2/
CATEGORIES:Talks
ATTACH;FMTTYPE=image/jpeg:https://nagb.org.bs/wp-content/uploads/2022/01/NE10-Averia-Wright-473.jpg
END:VEVENT
END:VCALENDAR