BEGIN:VCALENDAR
VERSION:2.0
PRODID:-//National Art Gallery of The Bahamas - ECPv6.15.20//NONSGML v1.0//EN
CALSCALE:GREGORIAN
METHOD:PUBLISH
X-WR-CALNAME:National Art Gallery of The Bahamas
X-ORIGINAL-URL:https://nagb.org.bs
X-WR-CALDESC:Events for National Art Gallery of The Bahamas
REFRESH-INTERVAL;VALUE=DURATION:PT1H
X-Robots-Tag:noindex
X-PUBLISHED-TTL:PT1H
BEGIN:VTIMEZONE
TZID:America/Nassau
BEGIN:DAYLIGHT
TZOFFSETFROM:-0500
TZOFFSETTO:-0400
TZNAME:EDT
DTSTART:20230312T070000
END:DAYLIGHT
BEGIN:STANDARD
TZOFFSETFROM:-0400
TZOFFSETTO:-0500
TZNAME:EST
DTSTART:20231105T060000
END:STANDARD
BEGIN:DAYLIGHT
TZOFFSETFROM:-0500
TZOFFSETTO:-0400
TZNAME:EDT
DTSTART:20240310T070000
END:DAYLIGHT
BEGIN:STANDARD
TZOFFSETFROM:-0400
TZOFFSETTO:-0500
TZNAME:EST
DTSTART:20241103T060000
END:STANDARD
BEGIN:DAYLIGHT
TZOFFSETFROM:-0500
TZOFFSETTO:-0400
TZNAME:EDT
DTSTART:20250309T070000
END:DAYLIGHT
BEGIN:STANDARD
TZOFFSETFROM:-0400
TZOFFSETTO:-0500
TZNAME:EST
DTSTART:20251102T060000
END:STANDARD
END:VTIMEZONE
BEGIN:VEVENT
DTSTART;TZID=America/Nassau:20240425T180000
DTEND;TZID=America/Nassau:20240425T183000
DTSTAMP:20260421T080130
CREATED:20240419T212659Z
LAST-MODIFIED:20240420T065624Z
UID:19527-1714068000-1714069800@nagb.org.bs
SUMMARY:When We Are Free: Reparations and Revolution
DESCRIPTION:[vc_row][vc_column][vc_empty_space height=”40px”][/vc_column][/vc_row][vc_row][vc_column][vc_column_text]What to Expect \nJoin us for a thought-provoking conversation where we will explore the trauma and triumphs of our shared past\, delve into psychological and political theories\, and engage in contested dialogue to imagine a space where liberation is not only possible but also reality.  \nThis event is free and open to the public.[/vc_column_text][vc_empty_space][vc_separator color=”black”][vc_empty_space][vc_column_text]About the Speaker \nNiambi Hall Campbell-Dean is an Afrocentric community psychologist\, associate professor\, and Psychology program coordinator at the University of The Bahamas. She is a certified diversity trainer\, published researcher\, and the founder of Culture Community\, a research and consulting agency.  \nHer work primarily focuses on using culture as a tool for the empowerment of those within the African diaspora. She has been featured in local and international news outlets and podcasts and presented internationally at the United Nations and the Accra Reparations Conference\, hosted by the African Union in November 2024. Campbell-Dean is the current Chair of the Bahamas National Reparations Committee. \nJoin us for a thought-provoking conversation where we will explore the trauma and triumphs of our shared past\, delve into psychological and political theories\, and engage in contested dialogue to imagine a space where liberation is not only possible but also reality.  \nThis event is free and open to the public.[/vc_column_text][/vc_column][/vc_row][vc_row][vc_column][vc_empty_space height=”60px”][/vc_column][/vc_row]
URL:https://nagb.org.bs/event/when-we-are-free-reparations-and-revolution/
LOCATION:National Art Gallery of The Bahamas
ATTACH;FMTTYPE=image/png:https://nagb.org.bs/wp-content/uploads/2024/04/Niambi-Hall-Campbell-Dean-headshot.png
END:VEVENT
END:VCALENDAR